BEGIN:VCALENDAR
VERSION:2.0
PRODID:-//Choral Studies - ECPv6.15.20//NONSGML v1.0//EN
CALSCALE:GREGORIAN
METHOD:PUBLISH
X-WR-CALNAME:Choral Studies
X-ORIGINAL-URL:https://choral.music.arizona.edu
X-WR-CALDESC:Events for Choral Studies
REFRESH-INTERVAL;VALUE=DURATION:PT1H
X-Robots-Tag:noindex
X-PUBLISHED-TTL:PT1H
BEGIN:VTIMEZONE
TZID:America/Phoenix
BEGIN:STANDARD
TZOFFSETFROM:-0700
TZOFFSETTO:-0700
TZNAME:MST
DTSTART:20250101T000000
END:STANDARD
END:VTIMEZONE
BEGIN:VEVENT
DTSTART;TZID=America/Phoenix:20260427T190000
DTEND;TZID=America/Phoenix:20260427T190000
DTSTAMP:20260425T185700
CREATED:20250731T225208Z
LAST-MODIFIED:20250731T225208Z
UID:2166-1777316400-1777316400@choral.music.arizona.edu
SUMMARY:Collegium Musicum
DESCRIPTION:Free and open to the public
URL:https://choral.music.arizona.edu/event/collegium-musicum-2/
LOCATION:St. Philip’s in the Hills Episcopal Church\, 4440 N. Campbell Ave.\, Tucson\, AZ\, 85718\, United States
CATEGORIES:2025-2026
END:VEVENT
END:VCALENDAR